BEGIN:VCALENDAR
VERSION:2.0
PRODID:-//HIV Smart - ECPv6.15.20//NONSGML v1.0//EN
CALSCALE:GREGORIAN
METHOD:PUBLISH
X-ORIGINAL-URL:https://hivsmart.org
X-WR-CALDESC:Events for HIV Smart
REFRESH-INTERVAL;VALUE=DURATION:PT1H
X-Robots-Tag:noindex
X-PUBLISHED-TTL:PT1H
BEGIN:VTIMEZONE
TZID:UTC
BEGIN:STANDARD
TZOFFSETFROM:+0000
TZOFFSETTO:+0000
TZNAME:UTC
DTSTART:20150101T000000
END:STANDARD
END:VTIMEZONE
BEGIN:VEVENT
DTSTART;TZID=UTC:20160807T170000
DTEND;TZID=UTC:20160807T200000
DTSTAMP:20260421T050832
CREATED:20160802T005535Z
LAST-MODIFIED:20160802T005535Z
UID:1156-1470589200-1470600000@hivsmart.org
SUMMARY:HIV Smart @ Eagle NYC  August 7  (5-8PM)
DESCRIPTION:HIV Smart is a photo awareness campaign promoting education and testing.\nAll people\, regardless of status are encouraged to attend.\nParticipants MUST wear a BLUE shirt. Pictures will be available on the www.HIVSmart.org website. \n* FREE HIV testing will be provided onsite * \n* FREE Gun Oil lubricant & condoms will be provided onsite * \n\n*RAFFLES*\n\nEveryone is encouraged to use their pictures in all social media to foster conversations regardless of status.Join us at the Snug Harbor Cultural Center for Pridefest on Staten Island and be HIV Smart and join our campaign! \nOfficial Website: http://www.HIVSmart.org \nDonations to the campaign can be made at http://www.HIVSmart.org/give \nKnow Facts\, No Myths\n#HIVSmart #KnowFactsNoMyths #GetEducated #FightStigma #NotAlone
URL:https://hivsmart.org/event/hiv-smart-eagle-nyc-august-7-5-8pm/
LOCATION:The Eagle NYC\, 554 W28th St.\, New York\, NY\, 100001\, United States
ATTACH;FMTTYPE=image/jpeg:https://hivsmart.org/wp-content/uploads/2015/12/Eagle_Aug7_RGB.jpg
END:VEVENT
BEGIN:VEVENT
DTSTART;TZID=UTC:20160813T230000
DTEND;TZID=UTC:20160814T010000
DTSTAMP:20260421T050832
CREATED:20160809T185822Z
LAST-MODIFIED:20160809T185822Z
UID:1161-1471129200-1471136400@hivsmart.org
SUMMARY:HIV Smart @ Paradise (Asbury Park\, NJ)
DESCRIPTION:HIV Smart is a photo awareness campaign promoting education and testing.\nAll people\, regardless of status are encouraged to attend.\nParticipants MUST wear a BLUE shirt. Pictures will be available on the www.HIVSmart.org website. \n* FREE HIV testing will be provided onsite * \n* FREE Gun Oil lubricant & condoms will be provided onsite * \n\n*RAFFLES*\n\n\nEveryone is encouraged to use their pictures in all social media to foster conversations regardless of status.Join us at the Snug Harbor Cultural Center for Pridefest on Staten Island and be HIV Smart and join our campaign! \nOfficial Website: http://www.HIVSmart.org \nDonations to the campaign can be made at http://www.HIVSmart.org/give \nKnow Facts\, No Myths\n#HIVSmart #KnowFactsNoMyths #GetEducated #FightStigma #NotAlone
URL:https://hivsmart.org/event/hiv-smart-paradise-asbury-park-nj/
LOCATION:Paradise\, 101 Asbury Ave\, Asbury Park\,\, NJ\, 07712\, United States
ATTACH;FMTTYPE=image/jpeg:https://hivsmart.org/wp-content/uploads/2015/12/Paradise_August-13.jpg
END:VEVENT
END:VCALENDAR