BEGIN:VCALENDAR
VERSION:2.0
PRODID:-//HIV Smart - ECPv6.15.20//NONSGML v1.0//EN
CALSCALE:GREGORIAN
METHOD:PUBLISH
X-WR-CALNAME:HIV Smart
X-ORIGINAL-URL:https://hivsmart.org
X-WR-CALDESC:Events for HIV Smart
REFRESH-INTERVAL;VALUE=DURATION:PT1H
X-Robots-Tag:noindex
X-PUBLISHED-TTL:PT1H
BEGIN:VTIMEZONE
TZID:UTC
BEGIN:STANDARD
TZOFFSETFROM:+0000
TZOFFSETTO:+0000
TZNAME:UTC
DTSTART:20150101T000000
END:STANDARD
END:VTIMEZONE
BEGIN:VEVENT
DTSTART;TZID=UTC:20160712T080000
DTEND;TZID=UTC:20160712T170000
DTSTAMP:20260421T064649
CREATED:20160712T203930Z
LAST-MODIFIED:20160712T205410Z
UID:1146-1468310400-1468342800@hivsmart.org
SUMMARY:HIV Smart @ SI Yankees
DESCRIPTION:HIV Smart is a photo awareness campaign promoting education and testing.\nAll people\, regardless of status are encouraged to attend.\nParticipants MUST wear a BLUE shirt. Pictures will be available on the www.HIVSmart.org website. \n* FREE HIV testing info and appointments will be provided * \n* FREE Gun Oil lubricant & condoms will be provided onsite * \nEveryone is encouraged to use their pictures in all social media to foster conversations regardless of status.Join us at SI Yankees for Pride Night on Staten Island and be HIV Smart and join our campaign! \nOfficial Website: http://www.HIVSmart.org \nDonations to the campaign can be made at http://www.HIVSmart.org/give \nKnow Facts\, No Myths\n#HIVSmart #KnowFactsNoMyths #GetEducated #FightStigma #NotAlone
URL:https://hivsmart.org/event/hiv-smart-si-yankees/
LOCATION:Richmond County Bank Ballpark\, 75 Richmond Terrace\, Staten Island\, NY\, 10301\, United States
ATTACH;FMTTYPE=image/jpeg:https://hivsmart.org/wp-content/uploads/2015/12/PrideNIght_11X14.jpg
END:VEVENT
BEGIN:VEVENT
DTSTART;TZID=UTC:20160716T103000
DTEND;TZID=UTC:20160716T180000
DTSTAMP:20260421T064649
CREATED:20160711T011816Z
LAST-MODIFIED:20160711T044508Z
UID:1140-1468665000-1468692000@hivsmart.org
SUMMARY:HIV Smart @ Staten Island Pridefest
DESCRIPTION:HIV Smart is a photo awareness campaign promoting education and testing.\nAll people\, regardless of status are encouraged to attend.\nParticipants MUST wear a BLUE shirt. Pictures will be available on the www.HIVSmart.org website. \n* FREE HIV testing will be provided onsite * \n* FREE Gun Oil lubricant & condoms will be provided onsite * \n* C-In2 Underwear & Jockstrap RAFFLES * \n* Photography print RAFFLES * \nEveryone is encouraged to use their pictures in all social media to foster conversations regardless of status. \nJoin us at the Snug Harbor Cultural Center for Pridefest on Staten Island and be HIV Smart and join our campaign! \nOfficial Website: http://www.HIVSmart.org \nDonations to the campaign can be made at http://www.HIVSmart.org/give \nKnow Facts\, No Myths\n#HIVSmart #KnowFactsNoMyths #GetEducated #FightStigma #NotAlone
URL:https://hivsmart.org/event/hiv-smart-staten-island-pridefest/
LOCATION:Snug Harbor Cultural Center\, 1000 Richmond Terrace\, Staten Island\, NY\, 10301\, United States
ATTACH;FMTTYPE=image/jpeg:https://hivsmart.org/wp-content/uploads/2015/12/PrideFest_11X14.jpg
END:VEVENT
END:VCALENDAR