BEGIN:VCALENDAR
VERSION:2.0
PRODID:-//HIV Smart - ECPv6.15.20//NONSGML v1.0//EN
CALSCALE:GREGORIAN
METHOD:PUBLISH
X-WR-CALNAME:HIV Smart
X-ORIGINAL-URL:https://hivsmart.org
X-WR-CALDESC:Events for HIV Smart
REFRESH-INTERVAL;VALUE=DURATION:PT1H
X-Robots-Tag:noindex
X-PUBLISHED-TTL:PT1H
BEGIN:VTIMEZONE
TZID:UTC
BEGIN:STANDARD
TZOFFSETFROM:+0000
TZOFFSETTO:+0000
TZNAME:UTC
DTSTART:20160101T000000
END:STANDARD
END:VTIMEZONE
BEGIN:VEVENT
DTSTART;TZID=UTC:20170312T170000
DTEND;TZID=UTC:20170312T200000
DTSTAMP:20260421T030806
CREATED:20170211T021104Z
LAST-MODIFIED:20170211T021104Z
UID:1370-1489338000-1489348800@hivsmart.org
SUMMARY:HIV Smart Social media & Education Campaign at the Eagle NYC
DESCRIPTION:HIV Smart is a photo awareness campaign focusing on education about prevention methods such as PrEP & PEP\, the importance of knowing your status\, the link between HIV+ people and depression\, and fighting stigma.\n\n\n \n\n\nALL people regardless of status are encouraged to attend.\n\n\n \n\n\nHIV Prevention education will be available about PrEP/PEP.\n\n\n \n\n\nWEAR BLUE for your photo! \n\n\n \n\n\n* FREE HIV testing will be provided onsite by GMHC *\n\n\n* FREE Gun Oil lubricant & condoms will be provided onsite *\n\n\n* Fundraising RAFFLES *\n\n\n \n\n\nEveryone is encouraged to use their pictures in all social media to foster conversations regardless of status.\n\n\n \n\n\nLocation:\n\n\nEagle NYC\n\n\n554 West 28th Street\n\n\nNY NY 10001\n\n\n(between 10th & 11th Aves)\n\n\n \n\n\nOfficial Website: http://www.HIVSmart.org\n\n\n \n\n\nDonations to the campaign can be made at http://www.HIVSmart.org/give\n\n\n \n\n\nKnow Facts\, No Myths\n\n\n \n\n\n#HIVSmart #KnowFactsNoMyths #GetEducated #FightStigma #NotAlone
URL:https://hivsmart.org/event/hiv-smart-social-media-education-campaign-eagle-nyc/
LOCATION:The Eagle NYC\, 554 W28th St.\, New York\, NY\, 100001\, United States
ATTACH;FMTTYPE=image/jpeg:https://hivsmart.org/wp-content/uploads/2017/02/Eagle_March12.jpg
END:VEVENT
BEGIN:VEVENT
DTSTART;TZID=UTC:20180215T120000
DTEND;TZID=UTC:20180215T160000
DTSTAMP:20260421T030806
CREATED:20180130T193320Z
LAST-MODIFIED:20180130T193323Z
UID:1508-1518696000-1518710400@hivsmart.org
SUMMARY:HIV Smart Fight Stigma Photo Event - Staten Island
DESCRIPTION:HIV Smart is a photo awareness campaign focusing on education about prevention methods such as PrEP & PEP\, the importance of knowing your status\, the link between HIV+ people and depression\, and fighting stigma.\n\n\n \n\n\nALL people regardless of status are encouraged to attend.\n\n\n \n\n\nHIV Prevention education will be available about PrEP/PEP by Mount Sinai.\n\n\n \n\n\nWEAR BLUE for your photo!\n\n\n \n\n\n* FREE HIV testing will be provided onsite *\n\n\n \n\n\nEveryone is encouraged to use their pictures in all social media to foster conversations regardless of status.\n\n\n \n\n\nLocation:\n\n\nCollege of Staten Island\n\n\n2800 Victory Blvd\n\n\nStaten Island NY\, 10314\n\n\n \n\n\nOfficial Website: http://www.HIVSmart.org/\n\n\n \n\n\nDonations to the campaign can be made at http://www.HIVSmart.org/give\n\n\n \n\n\nKnow Facts\, No Myths\n\n\n \n\n\n#HIVSmart #KnowFactsNoMyths #GetEducated #FightStigma #NotAlone
URL:https://hivsmart.org/event/hiv-smart-fight-stigma-photo-event-staten-island/
LOCATION:Collge of Staten Island\, 2800 Victory Blvd\, Staten Island\, NY\, 10314\, United States
ATTACH;FMTTYPE=image/jpeg:https://hivsmart.org/wp-content/uploads/2018/01/Scruff_lowres.jpg
END:VEVENT
BEGIN:VEVENT
DTSTART;TZID=UTC:20190628T170000
DTEND;TZID=UTC:20190628T200000
DTSTAMP:20260421T030806
CREATED:20190602T140523Z
LAST-MODIFIED:20190602T140523Z
UID:1548-1561741200-1561752000@hivsmart.org
SUMMARY:World Pride with HIVsmart at the Ritz!
DESCRIPTION:HIV Smart is a photo awareness campaign promoting education and testing.\nAll people\, regardless of status are encouraged to attend.\nParticipants MUST wear a BLUE shirt. Pictures will be available on the www.HIVSmart.org website. \n* FREE HIV testing will be provided onsite * \n\n\n *Information on getting healthcare coverage for uninsured or under-insured *\n\nEveryone is encouraged to use their pictures in all social media to foster conversations regardless of status. \nJoin us at the Ritz bar and lounge and be HIV Smart and join our campaign! \nOfficial Website: http://www.HIVSmart.org \nDonations to the campaign can be made at http://www.HIVSmart.org/give \nKnow Facts\, No Myths\n#HIVSmart #KnowFactsNoMyths #GetEducated #FightStigma #NotAlone \nWorld Pride at the Ritz!
URL:https://hivsmart.org/event/world-pride-hivsmart-ritz/
LOCATION:Ritz Bar and Lounge\, 369 W.46th Street\, New York\, NY\, 10036\, United States
ATTACH;FMTTYPE=image/jpeg:https://hivsmart.org/wp-content/uploads/2015/12/Ritz_Worldpride.jpg
END:VEVENT
END:VCALENDAR