BEGIN:VCALENDAR
VERSION:2.0
PRODID:-//HIV Smart - ECPv6.15.20//NONSGML v1.0//EN
CALSCALE:GREGORIAN
METHOD:PUBLISH
X-WR-CALNAME:HIV Smart
X-ORIGINAL-URL:https://hivsmart.org
X-WR-CALDESC:Events for HIV Smart
REFRESH-INTERVAL;VALUE=DURATION:PT1H
X-Robots-Tag:noindex
X-PUBLISHED-TTL:PT1H
BEGIN:VTIMEZONE
TZID:UTC
BEGIN:STANDARD
TZOFFSETFROM:+0000
TZOFFSETTO:+0000
TZNAME:UTC
DTSTART:20150101T000000
END:STANDARD
END:VTIMEZONE
BEGIN:VEVENT
DTSTART;TZID=UTC:20160929T190000
DTEND;TZID=UTC:20160929T220000
DTSTAMP:20260421T032014
CREATED:20160914T024544Z
LAST-MODIFIED:20160916T184026Z
UID:1249-1475175600-1475186400@hivsmart.org
SUMMARY:HIV Smart @ Liberty Tavern 7 - 10PM (Staten Island\, NY)
DESCRIPTION:HIV Smart is a photo awareness campaign promoting education and testing.\nAll people\, regardless of status are encouraged to attend.\nParticipants MUST wear a BLUE shirt. Pictures will be available on the www.HIVSmart.org website. \n* FREE HIV testing will be provided onsite * \n* FREE Gun Oil lubricant & condoms will be provided onsite * \n\n*RAFFLES*\n\n\nEveryone is encouraged to use their pictures in all social media to foster conversations regardless of status. \nJoin us at the Liberty Tavern on Staten Island and be HIV Smart and join our campaign! \nOfficial Website: http://www.HIVSmart.org \nDonations to the campaign can be made at http://www.HIVSmart.org/give \nKnow Facts\, No Myths\n#HIVSmart #KnowFactsNoMyths #GetEducated #FightStigma #NotAlone
URL:https://hivsmart.org/event/hiv-smart-liberty-tavern-7-10pm-staten-island-ny/
LOCATION:Liberty Tavern\, 382 Forest Avenue\, Staten Island\, NY\, 10301\, United States
ATTACH;FMTTYPE=image/jpeg:https://hivsmart.org/wp-content/uploads/2015/12/LibertyTavern_Sept29_RGB4.jpg
END:VEVENT
END:VCALENDAR