BEGIN:VCALENDAR
VERSION:2.0
PRODID:-//HIV Smart - ECPv6.15.20//NONSGML v1.0//EN
CALSCALE:GREGORIAN
METHOD:PUBLISH
X-WR-CALNAME:HIV Smart
X-ORIGINAL-URL:https://hivsmart.org
X-WR-CALDESC:Events for HIV Smart
REFRESH-INTERVAL;VALUE=DURATION:PT1H
X-Robots-Tag:noindex
X-PUBLISHED-TTL:PT1H
BEGIN:VTIMEZONE
TZID:UTC
BEGIN:STANDARD
TZOFFSETFROM:+0000
TZOFFSETTO:+0000
TZNAME:UTC
DTSTART:20150101T000000
END:STANDARD
END:VTIMEZONE
BEGIN:VEVENT
DTSTART;TZID=UTC:20160112T190000
DTEND;TZID=UTC:20160112T220000
DTSTAMP:20260421T181340
CREATED:20151215T225807Z
LAST-MODIFIED:20160104T215503Z
UID:134-1452625200-1452636000@hivsmart.org
SUMMARY:HIV Smart Photo Event – Ritz NYC
DESCRIPTION:January 12 – Ritz Bar and Lounge 5-8PM \nHIV Smart is a photo awareness campaign promoting education and testing.\nAll people\, regardless of status are encouraged to attend.\nParticipants MUST wear a BLUE shirt. Pictures will be available on the www.HIVSmart.org website.\nFree HIV testing will be provided by GMHC.\nEveryone is encouraged to use their pictures in all social media to foster conversations regardless of status.\nJoin Cacophony Daniels as the guest host and be part of HIV Smart campaign.\nThere will be giveaways by the Ritz Bar and Lounge and a 50/50 raffle benefiting HIV Smart. \nOfficial Website: http://www.HIVSmart.org \nDonations to the campaign can be made at http://www.HIVSmart.org/give \nKnow Facts\, No Myths\n#HIVSmart #KnowFactsNoMyths #GetEducated #FightStigma #NotAlone
URL:https://hivsmart.org/event/134/
LOCATION:Ritz Bar and Lounge\, 369 W.46th Street\, New York\, NY\, 10036\, United States
END:VEVENT
END:VCALENDAR